BEGIN:VCALENDAR
VERSION:2.0
PRODID:-//Italiana Congressi e Formazione - ECPv6.3.5//NONSGML v1.0//EN
CALSCALE:GREGORIAN
METHOD:PUBLISH
X-WR-CALNAME:Italiana Congressi e Formazione
X-ORIGINAL-URL:https://www.italianacongressi.it
X-WR-CALDESC:Eventi per Italiana Congressi e Formazione
REFRESH-INTERVAL;VALUE=DURATION:PT1H
X-Robots-Tag:noindex
X-PUBLISHED-TTL:PT1H
BEGIN:VTIMEZONE
TZID:Europe/Paris
BEGIN:DAYLIGHT
TZOFFSETFROM:+0100
TZOFFSETTO:+0200
TZNAME:CEST
DTSTART:20260329T010000
END:DAYLIGHT
BEGIN:STANDARD
TZOFFSETFROM:+0200
TZOFFSETTO:+0100
TZNAME:CET
DTSTART:20261025T010000
END:STANDARD
END:VTIMEZONE
BEGIN:VEVENT
DTSTART;VALUE=DATE:20260422
DTEND;VALUE=DATE:20260423
DTSTAMP:20260422T030544
CREATED:20260114T124729Z
LAST-MODIFIED:20260319T110248Z
UID:7439-1776816000-1776902399@www.italianacongressi.it
SUMMARY:"Obesità e rischio cardiovascolare"
DESCRIPTION:LE ISCRIZIONI DEVONO ESSERE EFFETTUATE ENTRO E NON OLTRE IL  2 MAGGIO 2026\n\n                                    \n	                        \n        \n		\n				\n				\n				\n					\n			\n		\n				\n				\n				\n				\n			        \n\n            \n\n	    \n                \n\n                                                                \n                    Scarica il programma\n\n                                    \n	                        \n        \n		\n				\n				\n				\n					\n			\n		\n				\n				\n					\n				\n		\n					\n				\n				\n					\n							\n					\n												\n															\n								\n													\n												Iscriviti Ora\n					\n\n					\n\n                \n                        Nome e Cognome(Obbligatorio)\n                            \n                            \n                                                    \n                                                    Nome\n                                                \n                            \n                            \n                                                    \n                                                    Cognome\n                                                \n                            \n                        Codice Fiscale(Obbligatorio)Email(Obbligatorio)\n                            \n                        Telefono(Obbligatorio)Professione / Specializzazione(Obbligatorio)
URL:https://www.italianacongressi.it/congresso/obesita-e-rischio-cardiovascolare-2/
LOCATION:Sala Convegni padiglione Asclepios III\, Piazza Giulio Cesare\, Bari\, 70124\, Italy
CATEGORIES:Eventi Home,In Programmazione
ATTACH;FMTTYPE=image/png:https://www.italianacongressi.it/wp-content/uploads/2026/01/copertina-bari-11.png
ORGANIZER;CN="Antonella D'Angella":MAILTO:antonelladangella@italianacongressi.it
END:VEVENT
END:VCALENDAR