BEGIN:VCALENDAR
VERSION:2.0
PRODID:-//Italiana Congressi e Formazione - ECPv6.3.5//NONSGML v1.0//EN
CALSCALE:GREGORIAN
METHOD:PUBLISH
X-WR-CALNAME:Italiana Congressi e Formazione
X-ORIGINAL-URL:https://www.italianacongressi.it
X-WR-CALDESC:Eventi per Italiana Congressi e Formazione
REFRESH-INTERVAL;VALUE=DURATION:PT1H
X-Robots-Tag:noindex
X-PUBLISHED-TTL:PT1H
BEGIN:VTIMEZONE
TZID:Europe/Paris
BEGIN:DAYLIGHT
TZOFFSETFROM:+0100
TZOFFSETTO:+0200
TZNAME:CEST
DTSTART:20260329T010000
END:DAYLIGHT
BEGIN:STANDARD
TZOFFSETFROM:+0200
TZOFFSETTO:+0100
TZNAME:CET
DTSTART:20261025T010000
END:STANDARD
END:VTIMEZONE
BEGIN:VEVENT
DTSTART;VALUE=DATE:20261210
DTEND;VALUE=DATE:20261211
DTSTAMP:20260420T074332
CREATED:20260326T093005Z
LAST-MODIFIED:20260402T113739Z
UID:8485-1796860800-1796947199@www.italianacongressi.it
SUMMARY:“Maculopatia senile”
DESCRIPTION:CREDITI FORMATIVI: 5 DESTINATARI DELL’ INIZIATIVA: 50 Medici Chirurghi specialisti in Psichiatria\, Psicologi\, Psicoterapeuti\, Terapisti della Riabilitazione Psichiatrica. 						\n				\n				\n				\n			        \n\n            \n\n	    \n                \n\n                                                                \n                    Scarica il programma
URL:https://www.italianacongressi.it/congresso/maculopatia-senile/
LOCATION:Bari\, Sala Zonno\, Molo S. Nicola 3\, Bari\, 70121\, Italia
CATEGORIES:Eventi Home,In Programmazione,Ophthal Sunset 2025
ATTACH;FMTTYPE=image/png:https://www.italianacongressi.it/wp-content/uploads/2026/02/copertina-mailing-12-12.png
ORGANIZER;CN="Antonella D'Angella":MAILTO:antonelladangella@italianacongressi.it
END:VEVENT
END:VCALENDAR